BEGIN:VCALENDAR
VERSION:2.0
PRODID:-//TuS Friedrichsdorf 1900 e. V. - ECPv6.15.20//NONSGML v1.0//EN
CALSCALE:GREGORIAN
METHOD:PUBLISH
X-ORIGINAL-URL:https://www.tus-friedrichsdorf.de
X-WR-CALDESC:Veranstaltungen für TuS Friedrichsdorf 1900 e. V.
REFRESH-INTERVAL;VALUE=DURATION:PT1H
X-Robots-Tag:noindex
X-PUBLISHED-TTL:PT1H
BEGIN:VTIMEZONE
TZID:Europe/Berlin
BEGIN:DAYLIGHT
TZOFFSETFROM:+0100
TZOFFSETTO:+0200
TZNAME:CEST
DTSTART:20240331T010000
END:DAYLIGHT
BEGIN:STANDARD
TZOFFSETFROM:+0200
TZOFFSETTO:+0100
TZNAME:CET
DTSTART:20241027T010000
END:STANDARD
BEGIN:DAYLIGHT
TZOFFSETFROM:+0100
TZOFFSETTO:+0200
TZNAME:CEST
DTSTART:20250330T010000
END:DAYLIGHT
BEGIN:STANDARD
TZOFFSETFROM:+0200
TZOFFSETTO:+0100
TZNAME:CET
DTSTART:20251026T010000
END:STANDARD
BEGIN:DAYLIGHT
TZOFFSETFROM:+0100
TZOFFSETTO:+0200
TZNAME:CEST
DTSTART:20260329T010000
END:DAYLIGHT
BEGIN:STANDARD
TZOFFSETFROM:+0200
TZOFFSETTO:+0100
TZNAME:CET
DTSTART:20261025T010000
END:STANDARD
END:VTIMEZONE
BEGIN:VEVENT
DTSTART;TZID=Europe/Berlin:20250905T160000
DTEND;TZID=Europe/Berlin:20250905T180000
DTSTAMP:20260421T084639
CREATED:20250804T080900Z
LAST-MODIFIED:20250804T080900Z
UID:16661-1757088000-1757095200@www.tus-friedrichsdorf.de
SUMMARY:125. Jahre TuS Friedrichsdorf - Halle für Alle
DESCRIPTION:Bewegungs-Parcour für Kinder\nKursangebote\nBadminton\nPickle-Ball
URL:https://www.tus-friedrichsdorf.de/veranstaltungen/125-jahre-tus-friedrichsdorf-halle-fuer-alle/
LOCATION:Sporthalle Alte Ziegelei
ATTACH;FMTTYPE=image/png:https://www.tus-friedrichsdorf.de/wp-content/uploads/2025/01/grafik.png
END:VEVENT
BEGIN:VEVENT
DTSTART;TZID=Europe/Berlin:20250905T180000
DTEND;TZID=Europe/Berlin:20250905T220000
DTSTAMP:20260421T084639
CREATED:20250804T080955Z
LAST-MODIFIED:20250804T080955Z
UID:16663-1757095200-1757109600@www.tus-friedrichsdorf.de
SUMMARY:125. Jahre TuS Friedrichsdorf - HALLENBEBEN
DESCRIPTION:Sport mit Musik
URL:https://www.tus-friedrichsdorf.de/veranstaltungen/125-jahre-tus-friedrichsdorf-hallenbeben/
LOCATION:Sporthalle Alte Ziegelei
ATTACH;FMTTYPE=image/png:https://www.tus-friedrichsdorf.de/wp-content/uploads/2025/01/grafik.png
END:VEVENT
END:VCALENDAR