BEGIN:VCALENDAR
VERSION:2.0
PRODID:-//TuS Friedrichsdorf 1900 e. V. - ECPv6.15.20//NONSGML v1.0//EN
CALSCALE:GREGORIAN
METHOD:PUBLISH
X-ORIGINAL-URL:https://www.tus-friedrichsdorf.de
X-WR-CALDESC:Veranstaltungen für TuS Friedrichsdorf 1900 e. V.
REFRESH-INTERVAL;VALUE=DURATION:PT1H
X-Robots-Tag:noindex
X-PUBLISHED-TTL:PT1H
BEGIN:VTIMEZONE
TZID:Europe/Berlin
BEGIN:DAYLIGHT
TZOFFSETFROM:+0100
TZOFFSETTO:+0200
TZNAME:CEST
DTSTART:20240331T010000
END:DAYLIGHT
BEGIN:STANDARD
TZOFFSETFROM:+0200
TZOFFSETTO:+0100
TZNAME:CET
DTSTART:20241027T010000
END:STANDARD
BEGIN:DAYLIGHT
TZOFFSETFROM:+0100
TZOFFSETTO:+0200
TZNAME:CEST
DTSTART:20250330T010000
END:DAYLIGHT
BEGIN:STANDARD
TZOFFSETFROM:+0200
TZOFFSETTO:+0100
TZNAME:CET
DTSTART:20251026T010000
END:STANDARD
BEGIN:DAYLIGHT
TZOFFSETFROM:+0100
TZOFFSETTO:+0200
TZNAME:CEST
DTSTART:20260329T010000
END:DAYLIGHT
BEGIN:STANDARD
TZOFFSETFROM:+0200
TZOFFSETTO:+0100
TZNAME:CET
DTSTART:20261025T010000
END:STANDARD
END:VTIMEZONE
BEGIN:VEVENT
DTSTART;TZID=Europe/Berlin:20250907T103000
DTEND;TZID=Europe/Berlin:20250907T130000
DTSTAMP:20260421T084640
CREATED:20250804T081543Z
LAST-MODIFIED:20250805T082902Z
UID:16668-1757241000-1757250000@www.tus-friedrichsdorf.de
SUMMARY:125. Jahre TuS Friedrichsdorf - Frühstück rund um St. Friedrich
DESCRIPTION:Tisch buchen und kreativ dekorieren\nSelbstversorgung\nMusik: Matthias Stumpe Band\n\nPrämie für den kreativsten Tisch \n  \nAnmeldung Jubiläumsfrühstück
URL:https://www.tus-friedrichsdorf.de/veranstaltungen/125-jahre-tus-friedrichsdorf-fruehstueck-rund-um-st-friedrich/
ATTACH;FMTTYPE=image/png:https://www.tus-friedrichsdorf.de/wp-content/uploads/2025/01/grafik.png
END:VEVENT
BEGIN:VEVENT
DTSTART;TZID=Europe/Berlin:20250907T143000
DTEND;TZID=Europe/Berlin:20250907T143000
DTSTAMP:20260421T084640
CREATED:20250804T081650Z
LAST-MODIFIED:20250805T080256Z
UID:16670-1757255400-1757255400@www.tus-friedrichsdorf.de
SUMMARY:125. Jahre TuS Friedrichsdorf - Offizieller Festakt
DESCRIPTION:Showeinlagen\nEhrungen\nGenussvolle Verpflegung
URL:https://www.tus-friedrichsdorf.de/veranstaltungen/125-jahre-tus-friedrichsdorf-offizieller-festakt/
LOCATION:Sporthalle Alte Ziegelei
ATTACH;FMTTYPE=image/png:https://www.tus-friedrichsdorf.de/wp-content/uploads/2025/01/grafik.png
END:VEVENT
END:VCALENDAR