BEGIN:VCALENDAR
VERSION:2.0
PRODID:-//TuS Friedrichsdorf 1900 e. V. - ECPv6.15.20//NONSGML v1.0//EN
CALSCALE:GREGORIAN
METHOD:PUBLISH
X-WR-CALNAME:TuS Friedrichsdorf 1900 e. V.
X-ORIGINAL-URL:https://www.tus-friedrichsdorf.de
X-WR-CALDESC:Veranstaltungen für TuS Friedrichsdorf 1900 e. V.
REFRESH-INTERVAL;VALUE=DURATION:PT1H
X-Robots-Tag:noindex
X-PUBLISHED-TTL:PT1H
BEGIN:VTIMEZONE
TZID:Europe/Berlin
BEGIN:DAYLIGHT
TZOFFSETFROM:+0100
TZOFFSETTO:+0200
TZNAME:CEST
DTSTART:20240331T010000
END:DAYLIGHT
BEGIN:STANDARD
TZOFFSETFROM:+0200
TZOFFSETTO:+0100
TZNAME:CET
DTSTART:20241027T010000
END:STANDARD
BEGIN:DAYLIGHT
TZOFFSETFROM:+0100
TZOFFSETTO:+0200
TZNAME:CEST
DTSTART:20250330T010000
END:DAYLIGHT
BEGIN:STANDARD
TZOFFSETFROM:+0200
TZOFFSETTO:+0100
TZNAME:CET
DTSTART:20251026T010000
END:STANDARD
BEGIN:DAYLIGHT
TZOFFSETFROM:+0100
TZOFFSETTO:+0200
TZNAME:CEST
DTSTART:20260329T010000
END:DAYLIGHT
BEGIN:STANDARD
TZOFFSETFROM:+0200
TZOFFSETTO:+0100
TZNAME:CET
DTSTART:20261025T010000
END:STANDARD
END:VTIMEZONE
BEGIN:VEVENT
DTSTART;TZID=Europe/Berlin:20250913T150000
DTEND;TZID=Europe/Berlin:20250913T170000
DTSTAMP:20260421T084755
CREATED:20250731T200004Z
LAST-MODIFIED:20250731T200004Z
UID:16638-1757775600-1757782800@www.tus-friedrichsdorf.de
SUMMARY:Ballsport
DESCRIPTION:Es werden verschiedene Ballsportarten gespielt\, z.B Pickle-Ball\, Völkerball\, Basketball\, Volleyball\, Floorball usw. \n 
URL:https://www.tus-friedrichsdorf.de/veranstaltungen/ballsport/
LOCATION:Grundschule Große Heide
ATTACH;FMTTYPE=image/png:https://www.tus-friedrichsdorf.de/wp-content/uploads/2025/07/Kopie-von-NEU-1.png
END:VEVENT
END:VCALENDAR