BEGIN:VCALENDAR
VERSION:2.0
PRODID:-//TuS Friedrichsdorf 1900 e. V. - ECPv6.15.20//NONSGML v1.0//EN
CALSCALE:GREGORIAN
METHOD:PUBLISH
X-WR-CALNAME:TuS Friedrichsdorf 1900 e. V.
X-ORIGINAL-URL:https://www.tus-friedrichsdorf.de
X-WR-CALDESC:Veranstaltungen für TuS Friedrichsdorf 1900 e. V.
REFRESH-INTERVAL;VALUE=DURATION:PT1H
X-Robots-Tag:noindex
X-PUBLISHED-TTL:PT1H
BEGIN:VTIMEZONE
TZID:Europe/Berlin
BEGIN:DAYLIGHT
TZOFFSETFROM:+0100
TZOFFSETTO:+0200
TZNAME:CEST
DTSTART:20240331T010000
END:DAYLIGHT
BEGIN:STANDARD
TZOFFSETFROM:+0200
TZOFFSETTO:+0100
TZNAME:CET
DTSTART:20241027T010000
END:STANDARD
BEGIN:DAYLIGHT
TZOFFSETFROM:+0100
TZOFFSETTO:+0200
TZNAME:CEST
DTSTART:20250330T010000
END:DAYLIGHT
BEGIN:STANDARD
TZOFFSETFROM:+0200
TZOFFSETTO:+0100
TZNAME:CET
DTSTART:20251026T010000
END:STANDARD
BEGIN:DAYLIGHT
TZOFFSETFROM:+0100
TZOFFSETTO:+0200
TZNAME:CEST
DTSTART:20260329T010000
END:DAYLIGHT
BEGIN:STANDARD
TZOFFSETFROM:+0200
TZOFFSETTO:+0100
TZNAME:CET
DTSTART:20261025T010000
END:STANDARD
END:VTIMEZONE
BEGIN:VEVENT
DTSTART;TZID=Europe/Berlin:20251108T170000
DTEND;TZID=Europe/Berlin:20251108T210000
DTSTAMP:20260421T044717
CREATED:20250915T140011Z
LAST-MODIFIED:20251105T091128Z
UID:17184-1762621200-1762635600@www.tus-friedrichsdorf.de
SUMMARY:Badminton TuS Friedrichsdorf 1 - SC Union 08 Lüdinghausen 3
DESCRIPTION:Badminton Oberliga \nTuS Friedrichsdorf 1 – SC Union 08 Lüdinghausen 3
URL:https://www.tus-friedrichsdorf.de/veranstaltungen/badminton-tus-friedrichsdorf-1-sc-union-08-luedinghausen-3/
LOCATION:Sporthalle Alte Ziegelei
ATTACH;FMTTYPE=image/png:https://www.tus-friedrichsdorf.de/wp-content/uploads/2025/09/Vorlagen-2526.png-1-e1758192709469.png
END:VEVENT
END:VCALENDAR