BEGIN:VCALENDAR
VERSION:2.0
PRODID:-//TuS Friedrichsdorf 1900 e. V. - ECPv6.15.20//NONSGML v1.0//EN
CALSCALE:GREGORIAN
METHOD:PUBLISH
X-ORIGINAL-URL:https://www.tus-friedrichsdorf.de
X-WR-CALDESC:Veranstaltungen für TuS Friedrichsdorf 1900 e. V.
REFRESH-INTERVAL;VALUE=DURATION:PT1H
X-Robots-Tag:noindex
X-PUBLISHED-TTL:PT1H
BEGIN:VTIMEZONE
TZID:Europe/Berlin
BEGIN:DAYLIGHT
TZOFFSETFROM:+0100
TZOFFSETTO:+0200
TZNAME:CEST
DTSTART:20250330T010000
END:DAYLIGHT
BEGIN:STANDARD
TZOFFSETFROM:+0200
TZOFFSETTO:+0100
TZNAME:CET
DTSTART:20251026T010000
END:STANDARD
BEGIN:DAYLIGHT
TZOFFSETFROM:+0100
TZOFFSETTO:+0200
TZNAME:CEST
DTSTART:20260329T010000
END:DAYLIGHT
BEGIN:STANDARD
TZOFFSETFROM:+0200
TZOFFSETTO:+0100
TZNAME:CET
DTSTART:20261025T010000
END:STANDARD
BEGIN:DAYLIGHT
TZOFFSETFROM:+0100
TZOFFSETTO:+0200
TZNAME:CEST
DTSTART:20270328T010000
END:DAYLIGHT
BEGIN:STANDARD
TZOFFSETFROM:+0200
TZOFFSETTO:+0100
TZNAME:CET
DTSTART:20271031T010000
END:STANDARD
END:VTIMEZONE
BEGIN:VEVENT
DTSTART;TZID=Europe/Berlin:20260308T110000
DTEND;TZID=Europe/Berlin:20260308T140000
DTSTAMP:20260420T201451
CREATED:20250915T140241Z
LAST-MODIFIED:20250918T105051Z
UID:17192-1772967600-1772978400@www.tus-friedrichsdorf.de
SUMMARY:Badminton TuS Friedrichsdorf 1 - SC BW Ostenland 1
DESCRIPTION:Badminton Oberliga \nTuS Friedrichsdorf 1 – SC BW Ostenland 1
URL:https://www.tus-friedrichsdorf.de/veranstaltungen/badminton-tus-friedrichsdorf-1-sc-bw-ostenland-1/
LOCATION:Sporthalle Alte Ziegelei
ATTACH;FMTTYPE=image/png:https://www.tus-friedrichsdorf.de/wp-content/uploads/2025/09/Vorlagen-2526.png-1-e1758192709469.png
END:VEVENT
END:VCALENDAR